BEGIN:VCALENDAR
VERSION:2.0
PRODID:-//pretix//pretix.eu//
BEGIN:VTIMEZONE
TZID:Europe/Zurich
BEGIN:STANDARD
DTSTART:20001029T040000
RRULE:FREQ=YEARLY;BYDAY=-1SU;BYMONTH=10
TZNAME:CET
TZOFFSETFROM:+0200
TZOFFSETTO:+0100
END:STANDARD
BEGIN:DAYLIGHT
DTSTART:20000326T030000
RRULE:FREQ=YEARLY;BYDAY=-1SU;BYMONTH=3
TZNAME:CEST
TZOFFSETFROM:+0100
TZOFFSETTO:+0200
END:DAYLIGHT
END:VTIMEZONE
BEGIN:VEVENT
UID:pretix-goetheanum-3SP-0@tickets.goetheanum.ch
DTSTART;TZID=Europe/Zurich:20230224T200000
DTEND;TZID=Europe/Zurich:20230226T123000
DESCRIPTION:Tickets: https://tickets.goetheanum.ch/3SP/\nVeranstalter: Goet
 heanum
DTSTAMP:20260425T032532Z
LOCATION:Goetheanum
SUMMARY:Ist die Philosophie eine „Göttin“? - zu Rudolf Steiners Philos
 ophieverständnis
END:VEVENT
END:VCALENDAR
