BEGIN:VCALENDAR
VERSION:2.0
PRODID:-//pretix//pretix.eu//
BEGIN:VTIMEZONE
TZID:Europe/Zurich
BEGIN:STANDARD
DTSTART:20001029T040000
RRULE:FREQ=YEARLY;BYDAY=-1SU;BYMONTH=10
TZNAME:CET
TZOFFSETFROM:+0200
TZOFFSETTO:+0100
END:STANDARD
BEGIN:DAYLIGHT
DTSTART:20000326T030000
RRULE:FREQ=YEARLY;BYDAY=-1SU;BYMONTH=3
TZNAME:CEST
TZOFFSETFROM:+0100
TZOFFSETTO:+0200
END:DAYLIGHT
END:VTIMEZONE
BEGIN:VEVENT
UID:pretix-goetheanum-4FD-0@tickets.goetheanum.ch
DTSTART;TZID=Europe/Zurich:20240201T161500
DTEND;TZID=Europe/Zurich:20240204T130000
DESCRIPTION:Tickets: https://tickets.goetheanum.ch/4FD/\nOrganizer: Goethea
 num
DTSTAMP:20260422T123608Z
LOCATION:Goetheanum
SUMMARY:FEBRUARY DAYS 2024 AT THE GOETHEANUM
END:VEVENT
END:VCALENDAR
