BEGIN:VCALENDAR
VERSION:2.0
PRODID:-//pretix//pretix.eu//
BEGIN:VTIMEZONE
TZID:Europe/Zurich
BEGIN:STANDARD
DTSTART:20001029T040000
RRULE:FREQ=YEARLY;BYDAY=-1SU;BYMONTH=10
TZNAME:CET
TZOFFSETFROM:+0200
TZOFFSETTO:+0100
END:STANDARD
BEGIN:DAYLIGHT
DTSTART:20000326T030000
RRULE:FREQ=YEARLY;BYDAY=-1SU;BYMONTH=3
TZNAME:CEST
TZOFFSETFROM:+0100
TZOFFSETTO:+0200
END:DAYLIGHT
END:VTIMEZONE
BEGIN:VEVENT
UID:pretix-goetheanum-5FD-0@tickets.goetheanum.ch
DTSTART;TZID=Europe/Zurich:20250213T160000
DTEND;TZID=Europe/Zurich:20250216T123000
DESCRIPTION:Tickets: https://tickets.goetheanum.ch/5FD/\nOrganizer: Goethea
 num
DTSTAMP:20260420T081702Z
LOCATION:Goetheanum
SUMMARY:FEBRUARY DAYS 2025: A quest for a pictorial understanding of Anthro
 posophy
END:VEVENT
END:VCALENDAR
