BEGIN:VCALENDAR
VERSION:2.0
PRODID:-//pretix//pretix.eu//
BEGIN:VTIMEZONE
TZID:Europe/Zurich
BEGIN:STANDARD
DTSTART:20001029T040000
RRULE:FREQ=YEARLY;BYDAY=-1SU;BYMONTH=10
TZNAME:CET
TZOFFSETFROM:+0200
TZOFFSETTO:+0100
END:STANDARD
BEGIN:DAYLIGHT
DTSTART:20000326T030000
RRULE:FREQ=YEARLY;BYDAY=-1SU;BYMONTH=3
TZNAME:CEST
TZOFFSETFROM:+0100
TZOFFSETTO:+0200
END:DAYLIGHT
END:VTIMEZONE
BEGIN:VEVENT
UID:pretix-goetheanum-6PT-EV-4785639@tickets.goetheanum.ch
DTSTART;TZID=Europe/Zurich:20260523T163000
DTEND;TZID=Europe/Zurich:20260523T180000
DESCRIPTION:Tickets: https://tickets.goetheanum.ch/6PT-EV/4785639/\nVeranst
 alter: Goetheanum
DTSTAMP:20260425T101935Z
LOCATION:Goetheanum
SUMMARY:Vortrag J. Sijmons
END:VEVENT
END:VCALENDAR
